BEGIN:VCALENDAR
VERSION:2.0
PRODID:-//eventon.com NONSGML v1.0//EN
CALSCALE:GREGORIAN
METHOD:PUBLISH
BEGIN:VEVENT
UID:69e88e18d2603
DTSTAMP:20260422T090008Z
DTSTART:20240921T073000Z
DTEND:20240922T110000Z
LOCATION:
SUMMARY:Wochenendworkshop Ukulele
DESCRIPTION:\nhttps://ukutro.de/events/wochenendworkshop-ukulele/
URL:https://ukutro.de/events/wochenendworkshop-ukulele/
END:VEVENT
END:VCALENDAR